
BEGIN:VCALENDAR
VERSION:2.0
PRODID:-//95.215.226.103//NONSGML kigkonsult.se iCalcreator 2.20//
CALSCALE:GREGORIAN
METHOD:PUBLISH
X-WR-TIMEZONE:UTC
BEGIN:VEVENT
UID:event976@Moorlands Climate Action
DTSTAMP:20260421T010824Z
CATEGORIES:MCA Event Planning
DESCRIPTION:Events Planning Meeting\nCategory: MCA Event Planning\nLink: ht
 tps://www.moorlandsclimateaction.org.uk/index.php?option=com_jem&view=even
 t&id=976:events-planning-meeting\n
DTSTART:20260406T190000Z
DTEND:20260406T190000Z
LOCATION:Zoom meeting\,United Kingdom
SUMMARY:Events Planning Meeting
URL:https://www.moorlandsclimateaction.org.uk/index.php?option=com_jem&view
 =event&id=976:events-planning-meeting
END:VEVENT
BEGIN:VEVENT
UID:event1001@Moorlands Climate Action
DTSTAMP:20260421T010824Z
CATEGORIES:MCA Communications
DESCRIPTION:MCA Comms Meeting\nCategory: MCA Communications\nLink: https://
 www.moorlandsclimateaction.org.uk/index.php?option=com_jem&view=event&id=1
 001:mca-comms-meeting\n
DTSTART:20260420T190000Z
DTEND:20260420T190000Z
LOCATION:Zoom meeting\,United Kingdom
SUMMARY:MCA Comms Meeting
URL:https://www.moorlandsclimateaction.org.uk/index.php?option=com_jem&view
 =event&id=1001:mca-comms-meeting
END:VEVENT
END:VCALENDAR
