
BEGIN:VCALENDAR
VERSION:2.0
PRODID:-//95.215.226.103//NONSGML kigkonsult.se iCalcreator 2.20//
CALSCALE:GREGORIAN
METHOD:PUBLISH
X-WR-TIMEZONE:UTC
BEGIN:VEVENT
UID:event978@Moorlands Climate Action
DTSTAMP:20260421T024113Z
CATEGORIES:MCA Event Planning
DESCRIPTION:Events Planning Meeting\nCategory: MCA Event Planning\nLink: ht
 tps://www.moorlandsclimateaction.org.uk/index.php?option=com_jem&view=even
 t&id=978:events-planning-meeting\n
DTSTART:20260601T190000Z
DTEND:20260601T190000Z
LOCATION:Zoom meeting
SUMMARY:Events Planning Meeting
URL:https://www.moorlandsclimateaction.org.uk/index.php?option=com_jem&view
 =event&id=978:events-planning-meeting
END:VEVENT
END:VCALENDAR
