
BEGIN:VCALENDAR
VERSION:2.0
PRODID:-//95.215.226.103//NONSGML kigkonsult.se iCalcreator 2.20//
CALSCALE:GREGORIAN
METHOD:PUBLISH
X-WR-TIMEZONE:UTC
BEGIN:VEVENT
UID:event1010@Moorlands Climate Action
DTSTAMP:20260420T214454Z
CATEGORIES:MCA - Repair Cafe
DESCRIPTION:MCA Repair Cafe\nCategory: MCA - Repair Cafe\nLink: https://www
 .moorlandsclimateaction.org.uk/index.php?option=com_jem&view=event&id=1010
 :mca-repair-cafe\n
DTSTART:20260509T100000Z
DTEND:20260509T140000Z
LOCATION:Endon Village Hall\,Station Rd\,ST9 9DR Endon
SUMMARY:MCA Repair Cafe
URL:https://www.moorlandsclimateaction.org.uk/index.php?option=com_jem&view
 =event&id=1010:mca-repair-cafe
END:VEVENT
END:VCALENDAR
