
BEGIN:VCALENDAR
VERSION:2.0
PRODID:-//95.215.226.103//NONSGML kigkonsult.se iCalcreator 2.20//
CALSCALE:GREGORIAN
METHOD:PUBLISH
X-WR-TIMEZONE:UTC
BEGIN:VEVENT
UID:event1006@Moorlands Climate Action
DTSTAMP:20260421T011121Z
CATEGORIES:Nature
DESCRIPTION:Staffordshire Invertebrate Science Fair\nCategory: Nature\nLink
 : https://www.moorlandsclimateaction.org.uk/index.php?option=com_jem&view=
 event&id=1006:staffordshire-invertebrate-science-fair\n
DTSTART:20260307T103000Z
DTEND:20260307T160000Z
LOCATION:Other\,see Description
SUMMARY:Staffordshire Invertebrate Science Fair
URL:https://www.moorlandsclimateaction.org.uk/index.php?option=com_jem&view
 =event&id=1006:staffordshire-invertebrate-science-fair
END:VEVENT
END:VCALENDAR
