
BEGIN:VCALENDAR
VERSION:2.0
PRODID:-//95.215.226.103//NONSGML kigkonsult.se iCalcreator 2.20//
CALSCALE:GREGORIAN
METHOD:PUBLISH
X-WR-TIMEZONE:UTC
BEGIN:VEVENT
UID:event1003@Moorlands Climate Action
DTSTAMP:20260421T010952Z
CATEGORIES:MCA Communications
DESCRIPTION:MCA Comms Meeting\nCategory: MCA Communications\nLink: https://
 www.moorlandsclimateaction.org.uk/index.php?option=com_jem&view=event&id=1
 003:mca-comms-meeting\n
DTSTART:20260615T190000Z
DTEND:20260615T190000Z
LOCATION:Zoom meeting
SUMMARY:MCA Comms Meeting
URL:https://www.moorlandsclimateaction.org.uk/index.php?option=com_jem&view
 =event&id=1003:mca-comms-meeting
END:VEVENT
END:VCALENDAR
